BEGIN:VCALENDAR
VERSION:2.0
PRODID:-//ChamberMaster//Event Calendar 2.0//EN
METHOD:PUBLISH
X-PUBLISHED-TTL:P3D
REFRESH-INTERVAL:P3D
CALSCALE:GREGORIAN
BEGIN:VEVENT
DTSTART:20230204T000000Z
DTEND:20230204T040000Z
X-MICROSOFT-CDO-ALLDAYEVENT:FALSE
SUMMARY:2023 Ambassador/Board Christmas Party
DESCRIPTION:Annual Ambassador's Christmas Party
X-ALT-DESC;FMTTYPE=text/html:Annual Ambassador&#39\;s Christmas Party&nbsp\;
LOCATION:The Downtown Grill 113 2nd NE Austin\, MN
UID:e.343.4809
SEQUENCE:3
DTSTAMP:20260421T033236Z
URL:https://business.austincoc.com/events/details/2023-ambassador-board-christmas-party-4809
END:VEVENT

END:VCALENDAR
