BEGIN:VCALENDAR
VERSION:2.0
PRODID:-//ChamberMaster//Event Calendar 2.0//EN
METHOD:PUBLISH
X-PUBLISHED-TTL:P3D
REFRESH-INTERVAL:P3D
CALSCALE:GREGORIAN
BEGIN:VEVENT
DTSTART:20170718T223000Z
DTEND:20170719T003000Z
X-MICROSOFT-CDO-ALLDAYEVENT:FALSE
SUMMARY:Ag Appreciation Cookout
DESCRIPTION:Grilled Windsor Chops\n\nCole Slaw-Beans-Refreshments\n\nIce Cream served by Mower County Dairy Princesses
X-ALT-DESC;FMTTYPE=text/html:<div><strong><span style="font-family: Arial"><span style="font-size: small">Grilled Windsor Chops</span></span></strong></div>\n\n<div><strong><span style="font-family: Arial"><span style="font-size: small">Cole Slaw-Beans-Refreshments</span></span></strong></div>\n\n<div><strong><span style="font-family: Arial"><span style="font-size: small">Ice Cream served by Mower County Dairy Princesses</span></span></strong></div>\n
LOCATION:Mower County Fairgrounds\, Plager Building
UID:e.343.2254
SEQUENCE:3
DTSTAMP:20260425T134734Z
URL:https://business.austincoc.com/events/details/ag-appreciation-cookout-07-18-2017-2254
END:VEVENT

END:VCALENDAR
