BEGIN:VCALENDAR
VERSION:2.0
PRODID:-//ChamberMaster//Event Calendar 2.0//EN
METHOD:PUBLISH
X-PUBLISHED-TTL:P3D
REFRESH-INTERVAL:P3D
CALSCALE:GREGORIAN
BEGIN:VEVENT
DTSTART:20210720T223000Z
DTEND:20210721T003000Z
X-MICROSOFT-CDO-ALLDAYEVENT:FALSE
SUMMARY:AG Appreciation Summer Cookout 2021
DESCRIPTION:Chamber Agri-Buisness Committees AG Appreciation Summer Cookout This event supports: 3rd Grader s Day on the Farm\, Corn Soybean Growers\, Pork Producers\, 4-H\, FFA\, and the National Barrow Show.\n\n\n\nWindsor Chop Dinner\, Coleslaw\, Beans\, Beverages and Ice Cream  at the Mower County Fairgrounds.\n\n\n\nIndividual tickets are $19 in advance and are available now for purchase at the Chamber Office Monday through Friday 10am-3pm\, or $20 at the door
X-ALT-DESC;FMTTYPE=text/html:Chamber Agri-Buisness Committees AG Appreciation Summer Cookout This event supports: 3rd Grader s Day on the Farm\, Corn Soybean Growers\, Pork Producers\, 4-H\, FFA\, and the National Barrow Show.<br />\n<br />\nWindsor Chop Dinner\, Coleslaw\, Beans\, Beverages and Ice Cream&nbsp\; at the Mower County Fairgrounds.<br />\n<br />\nIndividual tickets are $19 in advance and are available now for purchase at the Chamber Office Monday through Friday 10am-3pm\, or $20 at the door
LOCATION:
UID:e.343.4101
SEQUENCE:3
DTSTAMP:20260422T215119Z
URL:https://business.austincoc.com/events/details/ag-appreciation-summer-cookout-2021-4101
END:VEVENT

END:VCALENDAR
