BEGIN:VCALENDAR
VERSION:2.0
PRODID:-//ChamberMaster//Event Calendar 2.0//EN
METHOD:PUBLISH
X-PUBLISHED-TTL:P3D
REFRESH-INTERVAL:P3D
CALSCALE:GREGORIAN
BEGIN:VEVENT
DTSTART:20230215T130000Z
DTEND:20230215T140000Z
X-MICROSOFT-CDO-ALLDAYEVENT:FALSE
SUMMARY:AgriBusiness Committee Meeting
DESCRIPTION:The Agri-Business Committee is developing plans for an Ag Summit - June 6\, 2023.
X-ALT-DESC;FMTTYPE=text/html:The Agri-Business Committee is developing plans for an Ag Summit - June 6\, 2023.
LOCATION:ZOOM
UID:e.343.4808
SEQUENCE:3
DTSTAMP:20260421T034121Z
URL:https://business.austincoc.com/events/details/agribusiness-committee-meeting-4808
END:VEVENT

END:VCALENDAR
