BEGIN:VCALENDAR
VERSION:2.0
PRODID:-//ChamberMaster//Event Calendar 2.0//EN
METHOD:PUBLISH
X-PUBLISHED-TTL:P3D
REFRESH-INTERVAL:P3D
CALSCALE:GREGORIAN
BEGIN:VEVENT
DTSTART:20230615T223000Z
DTEND:20230615T233000Z
X-MICROSOFT-CDO-ALLDAYEVENT:FALSE
SUMMARY:Alzheimer's Association presentation - Alzheimer's Disease - Know the Facts
DESCRIPTION:
X-ALT-DESC;FMTTYPE=text/html:
LOCATION:St Mark's Living - Chapel 400 15th Ave SW
UID:e.343.5160
SEQUENCE:3
DTSTAMP:20260420T223400Z
URL:https://business.austincoc.com/events/details/alzheimer-s-association-presentation-alzheimer-s-disease-know-the-facts-5160
END:VEVENT

END:VCALENDAR
