BEGIN:VCALENDAR
VERSION:2.0
PRODID:-//ChamberMaster//Event Calendar 2.0//EN
METHOD:PUBLISH
X-PUBLISHED-TTL:P3D
REFRESH-INTERVAL:P3D
CALSCALE:GREGORIAN
BEGIN:VEVENT
DTSTART:20201118T004500Z
DTEND:20201118T020000Z
X-MICROSOFT-CDO-ALLDAYEVENT:FALSE
SUMMARY:Annual Meeting 2020
DESCRIPTION:2020 Annual Meeting for the Austin Area Chamber of Commerce\n\nElection of board members\; presentation of awards - Business of the Year (Large and Small)\, Volunteer of the Year\, Ambassador of the Year\, Ambassador Team of the Year and Lifetime Achievement Honoree.
X-ALT-DESC;FMTTYPE=text/html:2020 Annual Meeting for the Austin Area Chamber of Commerce<br />\nElection of board members\; presentation of awards - Business of the Year (Large and Small)\, Volunteer of the Year\, Ambassador of the Year\, Ambassador Team of the Year and Lifetime Achievement Honoree.
LOCATION:This will be a virtual event on Zoom
UID:e.343.4046
SEQUENCE:3
DTSTAMP:20260423T082604Z
URL:https://business.austincoc.com/events/details/annual-meeting-2020-4046
END:VEVENT

END:VCALENDAR
