BEGIN:VCALENDAR
VERSION:2.0
PRODID:-//ChamberMaster//Event Calendar 2.0//EN
METHOD:PUBLISH
X-PUBLISHED-TTL:P3D
REFRESH-INTERVAL:P3D
CALSCALE:GREGORIAN
BEGIN:VEVENT
DTSTART:20190221T140000Z
DTEND:20190221T150000Z
X-MICROSOFT-CDO-ALLDAYEVENT:FALSE
SUMMARY:Austin Freedom Fest Committee Meeting
DESCRIPTION:Austin Freedom Fest Committee Meeting
X-ALT-DESC;FMTTYPE=text/html:Austin Freedom Fest Committee Meeting&nbsp\;&nbsp\;&nbsp\;&nbsp\;
LOCATION:Town Center Conference Room 329 N Main Street Austin\, MN 55912
UID:e.343.3153
SEQUENCE:3
DTSTAMP:20260424T124106Z
URL:https://business.austincoc.com/events/details/austin-freedom-fest-committee-meeting-3153
END:VEVENT

END:VCALENDAR
