BEGIN:VCALENDAR
VERSION:2.0
PRODID:-//ChamberMaster//Event Calendar 2.0//EN
METHOD:PUBLISH
X-PUBLISHED-TTL:P3D
REFRESH-INTERVAL:P3D
CALSCALE:GREGORIAN
BEGIN:VEVENT
DTSTART:20160827T220000Z
DTEND:20160828T010000Z
X-MICROSOFT-CDO-ALLDAYEVENT:FALSE
SUMMARY:Baked Potato Bar/Silent Auction
DESCRIPTION:Stacked & Loaded Baked Potato Bar with our Silent Auction. Proceeds benefit World Services which helps support Salvation Army's in 3rd World Countries.
X-ALT-DESC;FMTTYPE=text/html:Stacked &amp\; Loaded Baked Potato Bar with our Silent Auction. Proceeds benefit World Services which helps support Salvation Army&#39\;s in 3rd World Countries.
LOCATION:409 1st Ave NE The Salvation Army Dining Hall
UID:e.343.2580
SEQUENCE:3
DTSTAMP:20260426T040311Z
URL:https://business.austincoc.com/events/details/baked-potato-bar-silent-auction-08-27-2016-2580
END:VEVENT

END:VCALENDAR
