BEGIN:VCALENDAR
VERSION:2.0
PRODID:-//ChamberMaster//Event Calendar 2.0//EN
METHOD:PUBLISH
X-PUBLISHED-TTL:P3D
REFRESH-INTERVAL:P3D
CALSCALE:GREGORIAN
BEGIN:VEVENT
DTSTART:20170624T140000Z
DTEND:20170624T210000Z
X-MICROSOFT-CDO-ALLDAYEVENT:FALSE
SUMMARY:Bikes for Barker 10th Annual Scholarship Fundraiser
DESCRIPTION:The fundraiser includes a pancake breakfast from 9 to 11:30 a.m.\, a silent auction during breakfast\, a 100-mile motorcycle run from the American Legion to Lanesboro\, Minn.\, and an 11-mile bicycle ride starting at the head of the Root River Trail in Fountain\, Minn.\, to the City Park in Lanesboro. A donation of $5 is suggested for the breakfast\, and registration is $20 per motorcycle and $10 per biking family. There will be a luncheon celebration at the City Park in Lanesboro afterward. A donation of $5 is suggested for the luncheon. Participants are welcome to join the festivities at any time during the day. A raffle\, for $5 per ticket\, will be held featuring a $1000 trip for two to Las Vegas or destination of choice arranged with 4 Seasons Travel\, two $250 Visa gift cards\, and other prizes. All money raised at this event goes toward the Garth Barker Memorial Scholarship Fund\, which assists students pursuing careers in chemical dependency counseling.
X-ALT-DESC;FMTTYPE=text/html:The fundraiser includes a pancake breakfast from 9 to 11:30 a.m.\, a silent auction during breakfast\, a 100-mile motorcycle run from the American Legion to Lanesboro\, Minn.\, and an 11-mile bicycle ride starting at the head of the Root River Trail in Fountain\, Minn.\, to the City Park in Lanesboro. A donation of $5 is suggested for the breakfast\, and registration is $20 per motorcycle and $10 per biking family. There will be a luncheon celebration at the City Park in Lanesboro afterward. A donation of $5 is suggested for the luncheon. Participants are welcome to join the festivities at any time during the day. A raffle\, for $5 per ticket\, will be held featuring a $1000 trip for two to Las Vegas or destination of choice arranged with 4 Seasons Travel\, two $250 Visa gift cards\, and other prizes. All money raised at this event goes toward the Garth Barker Memorial Scholarship Fund\, which assists students pursuing careers in chemical dependency counseling.
LOCATION:Starts at the Albert Lea American Legion 142 N Broadway Albert Lea\, MN
UID:e.343.2984
SEQUENCE:3
DTSTAMP:20260425T151625Z
URL:https://business.austincoc.com/events/details/bikes-for-barker-10th-annual-scholarship-fundraiser-2984
END:VEVENT

END:VCALENDAR
