BEGIN:VCALENDAR
VERSION:2.0
PRODID:-//ChamberMaster//Event Calendar 2.0//EN
METHOD:PUBLISH
X-PUBLISHED-TTL:P3D
REFRESH-INTERVAL:P3D
CALSCALE:GREGORIAN
BEGIN:VEVENT
DTSTART:20180612T220000Z
DTEND:20180612T233000Z
X-MICROSOFT-CDO-ALLDAYEVENT:FALSE
SUMMARY:Business After Hours
DESCRIPTION:Monthly Networking Event. Freedom Fest Early Bird Raffle Drawing will be held at 6:00 p.m.
X-ALT-DESC;FMTTYPE=text/html:Monthly Networking Event. Freedom Fest Early Bird Raffle Drawing will be held at 6:00 p.m.
LOCATION:The Cedars of Austin 700 1st Dr NW
UID:e.343.2996
SEQUENCE:3
DTSTAMP:20260424T235449Z
URL:https://business.austincoc.com/events/details/business-after-hours-06-12-2018-2996
END:VEVENT

END:VCALENDAR
