BEGIN:VCALENDAR
VERSION:2.0
PRODID:-//ChamberMaster//Event Calendar 2.0//EN
METHOD:PUBLISH
X-PUBLISHED-TTL:P3D
REFRESH-INTERVAL:P3D
CALSCALE:GREGORIAN
BEGIN:VEVENT
DTSTART:20180710T220000Z
DTEND:20180710T233000Z
X-MICROSOFT-CDO-ALLDAYEVENT:FALSE
SUMMARY:Business After Hours
DESCRIPTION:Business After Hours monthly networking event.
X-ALT-DESC;FMTTYPE=text/html:Business After Hours monthly networking event.
LOCATION:Hoot & Ole's Tavern 105 11th St NE
UID:e.343.3000
SEQUENCE:3
DTSTAMP:20260424T223619Z
URL:https://business.austincoc.com/events/details/business-after-hours-07-10-2018-3000
END:VEVENT

END:VCALENDAR
