BEGIN:VCALENDAR
VERSION:2.0
PRODID:-//ChamberMaster//Event Calendar 2.0//EN
METHOD:PUBLISH
X-PUBLISHED-TTL:P3D
REFRESH-INTERVAL:P3D
CALSCALE:GREGORIAN
BEGIN:VEVENT
DTSTART:20161108T230000Z
DTEND:20161109T003000Z
X-MICROSOFT-CDO-ALLDAYEVENT:FALSE
SUMMARY:Business After Hours
DESCRIPTION:Monthly networking event
X-ALT-DESC;FMTTYPE=text/html:Monthly networking event
LOCATION:Austin Eagles Club w/Austin Daily Herald 107 11th St NE
UID:e.343.2338
SEQUENCE:3
DTSTAMP:20260426T001816Z
URL:https://business.austincoc.com/events/details/business-after-hours-11-08-2016-2338
END:VEVENT

END:VCALENDAR
