BEGIN:VCALENDAR
VERSION:2.0
PRODID:-//ChamberMaster//Event Calendar 2.0//EN
METHOD:PUBLISH
X-PUBLISHED-TTL:P3D
REFRESH-INTERVAL:P3D
CALSCALE:GREGORIAN
BEGIN:VEVENT
DTSTART:20161213T230000Z
DTEND:20161214T003000Z
X-MICROSOFT-CDO-ALLDAYEVENT:FALSE
SUMMARY:Business After Hours
DESCRIPTION:Monthly networking event
X-ALT-DESC;FMTTYPE=text/html:Monthly networking event
LOCATION:Mayo Clinic Health System-Austin
UID:e.343.2339
SEQUENCE:3
DTSTAMP:20260425T230416Z
URL:https://business.austincoc.com/events/details/business-after-hours-12-13-2016-2339
END:VEVENT

END:VCALENDAR
