BEGIN:VCALENDAR
VERSION:2.0
PRODID:-//ChamberMaster//Event Calendar 2.0//EN
METHOD:PUBLISH
X-PUBLISHED-TTL:P3D
REFRESH-INTERVAL:P3D
CALSCALE:GREGORIAN
BEGIN:VEVENT
DTSTART:20201110T230000Z
DTEND:20201111T000000Z
X-MICROSOFT-CDO-ALLDAYEVENT:FALSE
SUMMARY:Business After Hours: ASA Auto Plaza & Morem Tree Service/Agri-Lawn
DESCRIPTION:Join us for Hybrid Business After Hours hosted by ASA Auto Plaza and Morem Tree Service/Agri-Lawn\n\nPre-registration through ChamberMaster is required. \n\nAn email with ZOOM meeting room information will be sent to registered attendees the morning of Tuesday\, November 10\, 2020.
X-ALT-DESC;FMTTYPE=text/html:<p>Join us for Hybrid&nbsp\;Business After Hours hosted by ASA Auto Plaza and Morem Tree Service/Agri-Lawn<br />\n<strong>Pre-registration through ChamberMaster&nbsp\;is required. </strong><br />\nAn&nbsp\;email with ZOOM meeting room information&nbsp\;will be sent to registered attendees the morning of Tuesday\, November 10\, 2020.</p>\n
LOCATION:Hybrid = In-person and Zoom
UID:e.343.4047
SEQUENCE:3
DTSTAMP:20260423T083434Z
URL:https://business.austincoc.com/events/details/business-after-hours-asa-auto-plaza-morem-tree-service-agri-lawn-4047
END:VEVENT

END:VCALENDAR
