BEGIN:VCALENDAR
VERSION:2.0
PRODID:-//ChamberMaster//Event Calendar 2.0//EN
METHOD:PUBLISH
X-PUBLISHED-TTL:P3D
REFRESH-INTERVAL:P3D
CALSCALE:GREGORIAN
BEGIN:VEVENT
DTSTART;VALUE=DATE:20180807
DTEND;VALUE=DATE:20180808
TRANSP:TRANSPARENT
X-MICROSOFT-CDO-ALLDAYEVENT:TRUE
SUMMARY:Business After Hours at the Mower County Fair
DESCRIPTION:Business After Hours
X-ALT-DESC;FMTTYPE=text/html:Business After Hours&nbsp\;&nbsp\;&nbsp\;&nbsp\;
LOCATION:co-sponsored by the Mower County Fair and Godfather's Pizza
UID:e.343.3005
SEQUENCE:3
DTSTAMP:20260424T212128Z
URL:https://business.austincoc.com/events/details/business-after-hours-at-the-mower-county-fair-3005
END:VEVENT

END:VCALENDAR
