BEGIN:VCALENDAR
VERSION:2.0
PRODID:-//ChamberMaster//Event Calendar 2.0//EN
METHOD:PUBLISH
X-PUBLISHED-TTL:P3D
REFRESH-INTERVAL:P3D
CALSCALE:GREGORIAN
BEGIN:VEVENT
DTSTART:20210511T220000Z
DTEND:20210511T230000Z
X-MICROSOFT-CDO-ALLDAYEVENT:FALSE
SUMMARY:Business After Hours-Cedars of Austin
DESCRIPTION:Join us for May's virtual Business After Hours hosted by Cedars of Austin\n	Zoom link will be sent out on Tuesday at 12:00pm\n	Progressive Chamber Bucks drawing is now $350! A representative from the winning business must be present on Zoom to win the progressive Chamber Bucks drawing. \n	There will be door prizes given away!
X-ALT-DESC;FMTTYPE=text/html:<ul>\n	<li>Join us for May&#39\;s virtual Business After Hours hosted by Cedars of Austin</li>\n	<li>Zoom link will be sent out on Tuesday at 12:00pm</li>\n	<li>Progressive Chamber Bucks drawing is now $350! A representative&nbsp\;from the winning business must be present on Zoom to win the progressive Chamber Bucks drawing.&nbsp\;</li>\n	<li>There will be door prizes given away!</li>\n</ul>\n
LOCATION:Zoom
UID:e.343.4057
SEQUENCE:3
DTSTAMP:20260423T004528Z
URL:https://business.austincoc.com/events/details/business-after-hours-cedars-of-austin-4057
END:VEVENT

END:VCALENDAR
