BEGIN:VCALENDAR
VERSION:2.0
PRODID:-//ChamberMaster//Event Calendar 2.0//EN
METHOD:PUBLISH
X-PUBLISHED-TTL:P3D
REFRESH-INTERVAL:P3D
CALSCALE:GREGORIAN
BEGIN:VEVENT
DTSTART:20210413T220000Z
DTEND:20210413T230000Z
X-MICROSOFT-CDO-ALLDAYEVENT:FALSE
SUMMARY:Business After Hours-Cobblestone Hotel & Suites
DESCRIPTION:Join us for April's virtual Business After Hours hosted by Cobblestone Hotel & Suites and co-host\, Welcome Center\n	Zoom link will be sent out on Tuesday at 12:00pm\n	Progressive Chamber Bucks drawing is now $300! A representative from the winning business must be present on Zoom to win the progressive Chamber Bucks drawing.
X-ALT-DESC;FMTTYPE=text/html:<ul>\n	<li>Join us for April&#39\;s virtual Business After Hours hosted by Cobblestone Hotel&nbsp\;&amp\; Suites and co-host\, Welcome Center</li>\n	<li>Zoom link will be sent out on Tuesday at 12:00pm</li>\n	<li>Progressive Chamber Bucks drawing is now $300! A representative&nbsp\;from the winning business must be present on Zoom to win the progressive Chamber Bucks drawing.&nbsp\;</li>\n</ul>\n
LOCATION:Zoom
UID:e.343.4056
SEQUENCE:3
DTSTAMP:20260423T020901Z
URL:https://business.austincoc.com/events/details/business-after-hours-cobblestone-hotel-suites-4056
END:VEVENT

END:VCALENDAR
