BEGIN:VCALENDAR
VERSION:2.0
PRODID:-//ChamberMaster//Event Calendar 2.0//EN
METHOD:PUBLISH
X-PUBLISHED-TTL:P3D
REFRESH-INTERVAL:P3D
CALSCALE:GREGORIAN
BEGIN:VEVENT
DTSTART:20210713T220000Z
DTEND:20210713T233000Z
X-MICROSOFT-CDO-ALLDAYEVENT:FALSE
SUMMARY:Business After Hours-Elrod\, Green & Heimer and ASA Auto Plaza
DESCRIPTION:Join us in person for July's Business After Hours sponsored by Elrod\, Green & Heimer at Asa Auto Plaza\n	Progressive Chamber Bucks drawing is now $50. A representative from the winning business must be present in person at Asa Auto Plaza to win the progressive Chamber Bucks drawing!\n	There will be door prizes given away!
X-ALT-DESC;FMTTYPE=text/html:<ul>\n	<li>Join us in person for July&#39\;s&nbsp\;Business After Hours sponsored&nbsp\;by Elrod\, Green &amp\; Heimer at&nbsp\;Asa Auto Plaza</li>\n	<li>Progressive Chamber Bucks drawing is now $50.&nbsp\;A representative&nbsp\;from the winning business must be present in person at Asa Auto Plaza&nbsp\;to win the progressive Chamber Bucks drawing!</li>\n	<li>There will be door prizes given away!</li>\n</ul>\n
LOCATION:Asa Auto Plaza - 703 17th Ave NW
UID:e.343.4059
SEQUENCE:3
DTSTAMP:20260422T215712Z
URL:https://business.austincoc.com/events/details/business-after-hours-elrod-green-heimer-and-asa-auto-plaza-4059
END:VEVENT

END:VCALENDAR
