BEGIN:VCALENDAR
VERSION:2.0
PRODID:-//ChamberMaster//Event Calendar 2.0//EN
METHOD:PUBLISH
X-PUBLISHED-TTL:P3D
REFRESH-INTERVAL:P3D
CALSCALE:GREGORIAN
BEGIN:VEVENT
DTSTART:20201013T220000Z
DTEND:20201013T230000Z
X-MICROSOFT-CDO-ALLDAYEVENT:FALSE
SUMMARY:Business After Hours: Gravity Storm & SPAM Museum
DESCRIPTION:Join us for Virtual Business After Hours hosted by Gravity Storm Brewery and the SPAM Museum.  This will be a hybrid event at Gravity Storm and on ZOOM.\n\nPre-registration through ChamberMaster is required for either in-person or ZOOM.\n\nAn email with meeting room information will be sent to registered attendees the morning of Tuesday\, September 8th.
X-ALT-DESC;FMTTYPE=text/html:<p>Join us for Virtual Business After Hours hosted by Gravity Storm Brewery and the SPAM Museum.&nbsp\; This will be a hybrid event at Gravity Storm and on ZOOM.<br />\n<strong>Pre-registration through ChamberMaster&nbsp\;is required for either in-person or ZOOM.</strong><br />\nAn&nbsp\;email with meeting room information&nbsp\;will be sent to registered attendees the morning of Tuesday\, September 8th.</p>\n
LOCATION:Gravity Storm or Zoom
UID:e.343.4043
SEQUENCE:3
DTSTAMP:20260423T094602Z
URL:https://business.austincoc.com/events/details/business-after-hours-gravity-storm-spam-museum-4043
END:VEVENT

END:VCALENDAR
