BEGIN:VCALENDAR
VERSION:2.0
PRODID:-//ChamberMaster//Event Calendar 2.0//EN
METHOD:PUBLISH
X-PUBLISHED-TTL:P3D
REFRESH-INTERVAL:P3D
CALSCALE:GREGORIAN
BEGIN:VEVENT
DTSTART:20210309T230000Z
DTEND:20210310T000000Z
X-MICROSOFT-CDO-ALLDAYEVENT:FALSE
SUMMARY:Business After Hours-Holiday Inn
DESCRIPTION:Monthly Networking Event- virtual Business After Hours \n\nDeadline to register is Monday\, March 8th at 12pm. - WHEN YOU REGISTER\, INDICATE BEVERAGE CHOICE - WHITE WINE\, RED WINE\, CRAFT BEER.\n\n\n\nPICK UP DESSERT SAMPLER AND BEVERAGE ON TUESDAY\, MARCH 9TH IN THE BISTRO AT THE HOLIDAY INN BETWEEN NOON AND 5PM.
X-ALT-DESC;FMTTYPE=text/html:Monthly Networking Event- virtual Business After Hours&nbsp\;<br />\nDeadline to register is Monday\, March 8th at 12pm. - <strong>WHEN YOU REGISTER\, INDICATE BEVERAGE CHOICE - WHITE WINE\, RED WINE\, CRAFT BEER.</strong><br />\n<br />\n<strong>PICK UP DESSERT SAMPLER AND BEVERAGE ON TUESDAY\, MARCH 9TH IN THE BISTRO AT THE HOLIDAY INN BETWEEN NOON AND 5PM.</strong>
LOCATION:Holiday Inn & Austin Conference Center
UID:e.343.4055
SEQUENCE:3
DTSTAMP:20260423T032218Z
URL:https://business.austincoc.com/events/details/business-after-hours-holiday-inn-4055
END:VEVENT

END:VCALENDAR
