BEGIN:VCALENDAR
VERSION:2.0
PRODID:-//ChamberMaster//Event Calendar 2.0//EN
METHOD:PUBLISH
X-PUBLISHED-TTL:P3D
REFRESH-INTERVAL:P3D
CALSCALE:GREGORIAN
BEGIN:VEVENT
DTSTART:20210608T220000Z
DTEND:20210608T233000Z
X-MICROSOFT-CDO-ALLDAYEVENT:FALSE
SUMMARY:Business After Hours-Hoot & Ole's and Thompson Sanitation
DESCRIPTION:Join us in person for June's Business After Hours hosted by Hoot & Ole's and Thompson Sanitation\n	Progressive Chamber Bucks drawing is now $400! A representative from the winning business must be present in person at Hoot & Ole's to win the progressive Chamber Bucks drawing\n	There will be door prizes given away!
X-ALT-DESC;FMTTYPE=text/html:<ul>\n	<li>Join us in person for June&#39\;s Business After Hours hosted by Hoot &amp\; Ole&#39\;s&nbsp\;and Thompson Sanitation</li>\n	<li>Progressive Chamber Bucks drawing is now $400! A representative&nbsp\;from the winning business must be present in person at Hoot &amp\; Ole&#39\;s&nbsp\;to win the progressive Chamber Bucks drawing</li>\n	<li>There will be door prizes given away!</li>\n</ul>\n
LOCATION:105 11th St NE
UID:e.343.4058
SEQUENCE:3
DTSTAMP:20260422T231955Z
URL:https://business.austincoc.com/events/details/business-after-hours-hoot-ole-s-and-thompson-sanitation-4058
END:VEVENT

END:VCALENDAR
