BEGIN:VCALENDAR
VERSION:2.0
PRODID:-//ChamberMaster//Event Calendar 2.0//EN
METHOD:PUBLISH
X-PUBLISHED-TTL:P3D
REFRESH-INTERVAL:P3D
CALSCALE:GREGORIAN
BEGIN:VEVENT
DTSTART:20200609T220000Z
DTEND:20200609T230000Z
X-MICROSOFT-CDO-ALLDAYEVENT:FALSE
SUMMARY:Business After Hours: Hormel Historic Home
DESCRIPTION:Join us for a virtual Business After Hours hosted by Hormel Historic Home!
X-ALT-DESC;FMTTYPE=text/html:Join us for a virtual Business After Hours hosted by Hormel Historic Home!
LOCATION:Zoom (email with meeting room information will be sent to registered attendees the morning of Tuesday\, June 9th)
UID:e.343.4025
SEQUENCE:3
DTSTAMP:20260423T150116Z
URL:https://business.austincoc.com/events/details/business-after-hours-hormel-historic-home-4025
END:VEVENT

END:VCALENDAR
