BEGIN:VCALENDAR
VERSION:2.0
PRODID:-//ChamberMaster//Event Calendar 2.0//EN
METHOD:PUBLISH
X-PUBLISHED-TTL:P3D
REFRESH-INTERVAL:P3D
CALSCALE:GREGORIAN
BEGIN:VEVENT
DTSTART:20201208T230000Z
DTEND:20201209T000000Z
X-MICROSOFT-CDO-ALLDAYEVENT:FALSE
SUMMARY:Business After Hours: Hormel Historic Home
DESCRIPTION:Virtual Business After Hours at the beautiful Hormel Historic Home.\n\nEnjoy a tour of the home decked out in holiday splendor!
X-ALT-DESC;FMTTYPE=text/html:Virtual Business After Hours at the beautiful Hormel Historic Home.<br />\nEnjoy a tour of the home decked out in holiday splendor!
LOCATION:Zoom link will be sent to registrants on Tuesday morning\, December 8th.
UID:e.343.4051
SEQUENCE:3
DTSTAMP:20260423T071351Z
URL:https://business.austincoc.com/events/details/business-after-hours-hormel-historic-home-4051
END:VEVENT

END:VCALENDAR
