BEGIN:VCALENDAR
VERSION:2.0
PRODID:-//ChamberMaster//Event Calendar 2.0//EN
METHOD:PUBLISH
X-PUBLISHED-TTL:P3D
REFRESH-INTERVAL:P3D
CALSCALE:GREGORIAN
BEGIN:VEVENT
DTSTART:20210112T230000Z
DTEND:20210113T000000Z
X-MICROSOFT-CDO-ALLDAYEVENT:FALSE
SUMMARY:Business After Hours-Hormel Institute & Hy-Vee
DESCRIPTION:Monthly networking event-Business After Hours hosted by The Hormel Institute and Hy-Vee.\n\n\n\nPut your pink on and join in the fun!
X-ALT-DESC;FMTTYPE=text/html:Monthly networking event-Business After Hours hosted by The Hormel Institute and Hy-Vee.<br />\n<br />\nPut your pink on and join in the fun!&nbsp\;
LOCATION:via zoom
UID:e.343.4053
SEQUENCE:3
DTSTAMP:20260423T054914Z
URL:https://business.austincoc.com/events/details/business-after-hours-hormel-institute-hy-vee-4053
END:VEVENT

END:VCALENDAR
