BEGIN:VCALENDAR
VERSION:2.0
PRODID:-//ChamberMaster//Event Calendar 2.0//EN
METHOD:PUBLISH
X-PUBLISHED-TTL:P3D
REFRESH-INTERVAL:P3D
CALSCALE:GREGORIAN
BEGIN:VEVENT
DTSTART:20210810T220000Z
DTEND:20210810T233000Z
X-MICROSOFT-CDO-ALLDAYEVENT:FALSE
SUMMARY:Business After Hours-Mower County Fair & Godfather's Pizza
DESCRIPTION:Join us in person for August's Business After Hours sponsored by Mower County Fair & Godfather's Pizza!\n	Progressive Chamber Bucks drawing is now $100! A representative from the winning business must be present in person at the Mower County Fair to win the progressive Chamber Bucks drawing!\n	There will be door prizes given away!
X-ALT-DESC;FMTTYPE=text/html:<ul>\n	<li>Join us in person for August&#39\;s&nbsp\;Business After Hours sponsored&nbsp\;by Mower County Fair &amp\; Godfather&#39\;s Pizza!</li>\n	<li>Progressive Chamber Bucks drawing is now $100!&nbsp\;A representative&nbsp\;from the winning business must be present in person at the Mower County Fair&nbsp\;to win the progressive Chamber Bucks drawing!</li>\n	<li>There will be door prizes given away!</li>\n</ul>\n
LOCATION:Mower County Fair - Purple Ribbon Plaza
UID:e.343.4060
SEQUENCE:3
DTSTAMP:20260422T215416Z
URL:https://business.austincoc.com/events/details/business-after-hours-mower-county-fair-godfather-s-pizza-4060
END:VEVENT

END:VCALENDAR
