BEGIN:VCALENDAR
VERSION:2.0
PRODID:-//ChamberMaster//Event Calendar 2.0//EN
METHOD:PUBLISH
X-PUBLISHED-TTL:P3D
REFRESH-INTERVAL:P3D
CALSCALE:GREGORIAN
BEGIN:VEVENT
DTSTART:20190703T210000Z
DTEND:20190703T220000Z
X-MICROSOFT-CDO-ALLDAYEVENT:FALSE
SUMMARY:Business Education Committee Meeting
DESCRIPTION:Business Education Meeting
X-ALT-DESC;FMTTYPE=text/html:Business Education Meeting
LOCATION:Austin Chamber of Commerce Board Room
UID:e.343.1509
SEQUENCE:3
DTSTAMP:20260424T060307Z
URL:https://business.austincoc.com/events/details/business-education-committee-meeting-07-03-2019-1509
END:VEVENT

END:VCALENDAR
