BEGIN:VCALENDAR
VERSION:2.0
PRODID:-//ChamberMaster//Event Calendar 2.0//EN
METHOD:PUBLISH
X-PUBLISHED-TTL:P3D
REFRESH-INTERVAL:P3D
CALSCALE:GREGORIAN
BEGIN:VEVENT
DTSTART:20180801T210000Z
DTEND:20180801T220000Z
X-MICROSOFT-CDO-ALLDAYEVENT:FALSE
SUMMARY:Business Education Committee Meeting
DESCRIPTION:Business Education Meeting
X-ALT-DESC;FMTTYPE=text/html:Business Education Meeting
LOCATION:Austin Chamber of Commerce Board Room
UID:e.343.1498
SEQUENCE:3
DTSTAMP:20260424T212230Z
URL:https://business.austincoc.com/events/details/business-education-committee-meeting-08-01-2018-1498
END:VEVENT

END:VCALENDAR
