BEGIN:VCALENDAR
VERSION:2.0
PRODID:-//ChamberMaster//Event Calendar 2.0//EN
METHOD:PUBLISH
X-PUBLISHED-TTL:P3D
REFRESH-INTERVAL:P3D
CALSCALE:GREGORIAN
BEGIN:VEVENT
DTSTART:20180829T200000Z
DTEND:20180829T230000Z
X-MICROSOFT-CDO-ALLDAYEVENT:FALSE
SUMMARY:Cedars Market
DESCRIPTION:Cedars Market is a farm to market option open to the public. There is no charge to attend. There are 21 vendors scheduled to have items available.
X-ALT-DESC;FMTTYPE=text/html:Cedars Market is a farm to market option open to the public. There is no charge to attend. There are 21 vendors scheduled to have items available.
LOCATION:Cedars of Austin Mill Pond Parking lot.
UID:e.343.3009
SEQUENCE:3
DTSTAMP:20260424T211630Z
URL:https://business.austincoc.com/events/details/cedars-market-3009
END:VEVENT

END:VCALENDAR
