BEGIN:VCALENDAR
VERSION:2.0
PRODID:-//ChamberMaster//Event Calendar 2.0//EN
METHOD:PUBLISH
X-PUBLISHED-TTL:P3D
REFRESH-INTERVAL:P3D
CALSCALE:GREGORIAN
BEGIN:VEVENT
DTSTART:20191129T233000Z
DTEND:20191130T013000Z
X-MICROSOFT-CDO-ALLDAYEVENT:FALSE
SUMMARY:Christmas In the City Kickoff 2019
DESCRIPTION:Annual event welcoming the holiday season with music\, food\, crafts\, and lots of fun\, leading to the parade that brings the man of the hour and the lighting of the community Christmas Tree. \n\nFor more information\, call 507-437-4561.
X-ALT-DESC;FMTTYPE=text/html:<p><span style="font-family:arial\;"><span style="color: rgb(0\, 0\, 0)\; white-space: pre-wrap\;">Annual event welcoming the holiday season with music\, food\, crafts\, and lots of fun\, leading to the parade that brings the man of the hour and the lighting of the community Christmas Tree. </span></span></p>\n\n<p><span style="font-family:arial\;"><span style="color: rgb(0\, 0\, 0)\; white-space: pre-wrap\;">For more information\, call 507-437-4561.</span></span><br />\n&nbsp\;</p>\n
LOCATION:Downtown Austin
UID:e.343.3174
SEQUENCE:3
DTSTAMP:20260424T005755Z
URL:https://business.austincoc.com/events/details/christmas-in-the-city-kickoff-2019-3174
END:VEVENT

END:VCALENDAR
