BEGIN:VCALENDAR
VERSION:2.0
PRODID:-//ChamberMaster//Event Calendar 2.0//EN
METHOD:PUBLISH
X-PUBLISHED-TTL:P3D
REFRESH-INTERVAL:P3D
CALSCALE:GREGORIAN
BEGIN:VEVENT
DTSTART:20181127T220000Z
DTEND:20181128T010000Z
X-MICROSOFT-CDO-ALLDAYEVENT:FALSE
SUMMARY:Christmas in the NW
DESCRIPTION:Visit businesses in the Northwest part of Austin and celebrate the holiday season with crafts\, specials and Santa!
X-ALT-DESC;FMTTYPE=text/html:Visit businesses in the Northwest part of Austin and celebrate the holiday season with crafts\, specials and Santa!&nbsp\;
LOCATION:
UID:e.343.3141
SEQUENCE:3
DTSTAMP:20260424T170258Z
URL:https://business.austincoc.com/events/details/christmas-in-the-nw-3141
END:VEVENT

END:VCALENDAR
