BEGIN:VCALENDAR
VERSION:2.0
PRODID:-//ChamberMaster//Event Calendar 2.0//EN
METHOD:PUBLISH
X-PUBLISHED-TTL:P3D
REFRESH-INTERVAL:P3D
CALSCALE:GREGORIAN
BEGIN:VEVENT
DTSTART:20181129T220000Z
DTEND:20181130T010000Z
X-MICROSOFT-CDO-ALLDAYEVENT:FALSE
SUMMARY:Christmas in the Southwest
DESCRIPTION:Visit businesses in the Southwest part of Austin to celebrate the holiday season with crafts\, activities\, and Santa!
X-ALT-DESC;FMTTYPE=text/html:Visit businesses in the Southwest part of Austin to celebrate the holiday season with crafts\, activities\, and Santa!
LOCATION:
UID:e.343.3142
SEQUENCE:3
DTSTAMP:20260424T171101Z
URL:https://business.austincoc.com/events/details/christmas-in-the-southwest-3142
END:VEVENT

END:VCALENDAR
