BEGIN:VCALENDAR
VERSION:2.0
PRODID:-//ChamberMaster//Event Calendar 2.0//EN
METHOD:PUBLISH
X-PUBLISHED-TTL:P3D
REFRESH-INTERVAL:P3D
CALSCALE:GREGORIAN
BEGIN:VEVENT
DTSTART:20200626T123000Z
DTEND:20200626T133000Z
X-MICROSOFT-CDO-ALLDAYEVENT:FALSE
SUMMARY:Coffee & Company: Holiday Inn & Austin Conference Center
DESCRIPTION:Join us for a virtual Coffee & Company hosted by Holiday Inn & Austin Conference Center!
X-ALT-DESC;FMTTYPE=text/html:Join us for a virtual Coffee &amp\; Company hosted by Holiday Inn &amp\; Austin Conference Center!
LOCATION:Zoom (email with meeting room information will be sent to registered attendees the afternoon of Thursday\, June 25th)
UID:e.343.4026
SEQUENCE:3
DTSTAMP:20260423T150254Z
URL:https://business.austincoc.com/events/details/coffee-company-holiday-inn-austin-conference-center-4026
END:VEVENT

END:VCALENDAR
