BEGIN:VCALENDAR
VERSION:2.0
PRODID:-//ChamberMaster//Event Calendar 2.0//EN
METHOD:PUBLISH
X-PUBLISHED-TTL:P3D
REFRESH-INTERVAL:P3D
CALSCALE:GREGORIAN
BEGIN:VEVENT
DTSTART:20200522T123000Z
DTEND:20200522T133000Z
X-MICROSOFT-CDO-ALLDAYEVENT:FALSE
SUMMARY:Coffee & Company: Stadheim Jewelers
DESCRIPTION:Join us for a virtual Coffee & Company hosted by Stadheim Jewelers!
X-ALT-DESC;FMTTYPE=text/html:Join us for a virtual Coffee &amp\; Company hosted by Stadheim Jewelers!
LOCATION:Zoom (email with meeting room information will be sent to registered attendees the afternoon of Thursday\, May 21st)
UID:e.343.4021
SEQUENCE:3
DTSTAMP:20260423T162528Z
URL:https://business.austincoc.com/events/details/coffee-company-stadheim-jewelers-4021
END:VEVENT

END:VCALENDAR
