BEGIN:VCALENDAR
VERSION:2.0
PRODID:-//ChamberMaster//Event Calendar 2.0//EN
METHOD:PUBLISH
X-PUBLISHED-TTL:P3D
REFRESH-INTERVAL:P3D
CALSCALE:GREGORIAN
BEGIN:VEVENT
DTSTART:20200519T230000Z
DTEND:20200520T000000Z
X-MICROSOFT-CDO-ALLDAYEVENT:FALSE
SUMMARY:Connecting Young Professionals: Refinancing During the Pandemic
DESCRIPTION:Ryan Gillespie\, Mortgage Banker at Bremer Bank is coming up on nearly 10 years since she obtained her license as a mortgage lender. Ryan is compassionate about helping clients to confidently understand the mortgage process. She does this by connecting with them to fully understand their wants\, needs and financial characteristics. She collaborates with every client on their journey to purchase a home or to refinance their home loan.\n\n\n\nRyan looks forward to sharing information\, tips to save money in the process\, what we might expect in the mortgage world in coming months\, and will gladly answer any questions you have.
X-ALT-DESC;FMTTYPE=text/html:<span style="color:#000000\;"><span style="font-family:arial\;"><span style="white-space: pre-wrap\;">Ryan Gillespie\, Mortgage Banker at Bremer Bank is coming up on nearly 10 years since she obtained her license as a mortgage lender. Ryan is compassionate about helping clients to confidently understand the mortgage process. She does this by connecting with them to fully understand their wants\, needs and financial characteristics. She collaborates with every client on their journey to purchase a home or to refinance their home loan.</span><br style="color: rgb(29\, 33\, 41)\; font-family: Helvetica\, Arial\, sans-serif\; font-size: 14px\; white-space: pre-wrap\;" />\n<br style="color: rgb(29\, 33\, 41)\; font-family: Helvetica\, Arial\, sans-serif\; font-size: 14px\; white-space: pre-wrap\;" />\n<span style="white-space: pre-wrap\;">Ryan looks forward to sharing information\, tips to save money in the process\, what we might expect in the mortgage world in coming months\, and will gladly answer any questions you have.</span></span></span>
LOCATION:Zoom (email with meeting room information will be sent to registered attendees the morning of Tuesday\, May 19th)
UID:e.343.4024
SEQUENCE:3
DTSTAMP:20260423T161959Z
URL:https://business.austincoc.com/events/details/connecting-young-professionals-refinancing-during-the-pandemic-4024
END:VEVENT

END:VCALENDAR
