BEGIN:VCALENDAR
VERSION:2.0
PRODID:-//ChamberMaster//Event Calendar 2.0//EN
METHOD:PUBLISH
X-PUBLISHED-TTL:P3D
REFRESH-INTERVAL:P3D
CALSCALE:GREGORIAN
BEGIN:VEVENT
DTSTART:20200409T160000Z
DTEND:20200409T170000Z
X-MICROSOFT-CDO-ALLDAYEVENT:FALSE
SUMMARY:COVID-19 Financing Options Q & A with Jeff Gross of US Bank
DESCRIPTION:Has your business been impacted by COVID-19?\n\nDo you have questions about what your financing options are?\n\nJoin us for a Question and Answer session with Jeff Gross of US Bank.
X-ALT-DESC;FMTTYPE=text/html:<p>Has your business been impacted by COVID-19?</p>\n\n<p>Do you have questions about what your financing options are?</p>\n\n<p>Join us for a Question and Answer session with Jeff Gross of US Bank.</p>\n
LOCATION:Zoom Meeting (room details and guidelines with be emailed to registrants on the morning of Thursday\, April 9)
UID:e.343.4014
SEQUENCE:3
DTSTAMP:20260423T175847Z
URL:https://business.austincoc.com/events/details/covid-19-financing-options-q-a-with-jeff-gross-of-us-bank-4014
END:VEVENT

END:VCALENDAR
