BEGIN:VCALENDAR
VERSION:2.0
PRODID:-//ChamberMaster//Event Calendar 2.0//EN
METHOD:PUBLISH
X-PUBLISHED-TTL:P3D
REFRESH-INTERVAL:P3D
CALSCALE:GREGORIAN
BEGIN:VEVENT
DTSTART:20180825T120000Z
DTEND:20180825T180000Z
X-MICROSOFT-CDO-ALLDAYEVENT:FALSE
SUMMARY:CRC Main to Main
DESCRIPTION:Get ready for a closed course from Osage's Main Street to St. Ansgar's Main Street and back. A half marathon route and 10K route will also be available! Register Here: https://www.cedarrivercomplex.com/main-to-main-marathon
X-ALT-DESC;FMTTYPE=text/html:Get ready for a closed course from Osage&rsquo\;s Main Street to St. Ansgar&rsquo\;s Main Street and back. A half marathon route and 10K route will also be available! Register Here: https://www.cedarrivercomplex.com/main-to-main-marathon
LOCATION:415 Main St. Osage\, IA 50461
UID:e.343.2989
SEQUENCE:3
DTSTAMP:20260424T211902Z
URL:https://business.austincoc.com/events/details/crc-main-to-main-2989
END:VEVENT

END:VCALENDAR
