BEGIN:VCALENDAR
VERSION:2.0
PRODID:-//ChamberMaster//Event Calendar 2.0//EN
METHOD:PUBLISH
X-PUBLISHED-TTL:P3D
REFRESH-INTERVAL:P3D
CALSCALE:GREGORIAN
BEGIN:VEVENT
DTSTART:20210205T010000Z
DTEND:20210205T020000Z
X-MICROSOFT-CDO-ALLDAYEVENT:FALSE
SUMMARY:CYP Membership Drive
DESCRIPTION:Mark your calendar! The Connecting Young Professionals (CYP) Membership Drive is being held virtually on Thursday\, February 4th at 7:00pm. Whether you are joining the CYP for the first time or renewing your existing annual membership\, we invite you to join us as we celebrate our first year in 2020 and look ahead to a great year in 2021!
X-ALT-DESC;FMTTYPE=text/html:<span style="font-size:14px\;"><span style="font-family:arial\;">Mark your calendar! The Connecting Young Professionals (CYP) Membership Drive is&nbsp\;being held virtually on Thursday\, February 4th at 7:00pm. Whether you are joining the CYP for the first time or renewing your existing annual membership\, we invite you to join us as we celebrate our first year in 2020 and look ahead to a great year in 2021!&nbsp\;</span></span>
LOCATION:Virtual via Zoom
UID:e.343.4066
SEQUENCE:3
DTSTAMP:20260423T044043Z
URL:https://business.austincoc.com/events/details/cyp-membership-drive-4066
END:VEVENT

END:VCALENDAR
