BEGIN:VCALENDAR
VERSION:2.0
PRODID:-//ChamberMaster//Event Calendar 2.0//EN
METHOD:PUBLISH
X-PUBLISHED-TTL:P3D
REFRESH-INTERVAL:P3D
CALSCALE:GREGORIAN
BEGIN:VEVENT
DTSTART:20181014T130000Z
DTEND:20181014T170000Z
X-MICROSOFT-CDO-ALLDAYEVENT:FALSE
SUMMARY:Darren Dash
DESCRIPTION:Half marathon\, 5k race and kiddie race. These events are in memory of Darren Lewis who was a local runner. Proceeds go toward scholarships for local senior cross country runners who plan to further their education. To date\, over $13\,000 has been awarded.
X-ALT-DESC;FMTTYPE=text/html:Half marathon\, 5k race and kiddie race. These events are in memory of Darren Lewis who was a local runner. Proceeds go toward scholarships for local senior cross country runners who plan to further their education. To date\, over $13\,000 has been awarded.
LOCATION:Lafayette Park
UID:e.343.3004
SEQUENCE:3
DTSTAMP:20260424T183328Z
URL:https://business.austincoc.com/events/details/darren-dash-3004
END:VEVENT

END:VCALENDAR
