BEGIN:VCALENDAR
VERSION:2.0
PRODID:-//ChamberMaster//Event Calendar 2.0//EN
METHOD:PUBLISH
X-PUBLISHED-TTL:P3D
REFRESH-INTERVAL:P3D
CALSCALE:GREGORIAN
BEGIN:VEVENT
DTSTART:20190108T190000Z
DTEND:20190108T220000Z
X-MICROSOFT-CDO-ALLDAYEVENT:FALSE
SUMMARY:Developing an Innovator Mindset
DESCRIPTION:In business today\, innovation is a crucial organizational competency and personal Innovativeness may be the ultimate transferrable skill. Yet there has been no reliable way to systematically measure and develop someone's capacity to innovate until now. Innovator Mindset (IM) is a rigorous science-based approach to identifying and creating high potential innovators and entrepreneurs. We all have the personal capacity to innovate. But some of us are better at tapping into that capability than others. IM uncovers those self-imposed obstacles and reveals how to overcome them.\n\nAnyone can learn how to put themselves in the elite group of innovators. IM identifies those characteristics that most distinguish successful entrepreneurs from those who are less so. It helps explain why there is such a wide range of performance among entrepreneurs and how to enhance the odds of success.\n\nYour employees\, your team members and in particular your leaders\, need to understand not only the importance of innovation\, but how to make it a sustained organizational capability and a personal competency. IM provides a rigorous way to 1) assess how innovative someone may currently be\, 2) help them develop that capability and 3) measure their progress.\n\nThis half day program is being offered by LAUNCH\, the Austin co-working space. LAUNCH was created by Austin Community Growth Ventures\, as part of the Development Corporation of Austin (DCA). We have partnered with Dennis Stauffer\, a recognized expert on the behaviors that drive innovation. \,
X-ALT-DESC;FMTTYPE=text/html:In business today\, innovation is a crucial organizational competency and personal Innovativeness may be the ultimate transferrable skill. Yet there has been no reliable way to systematically measure and develop someone&rsquo\;s capacity to innovate&mdash\;until now. Innovator Mindset (IM) is a rigorous science-based approach to identifying and creating high potential innovators and entrepreneurs. We all have the personal capacity to innovate. But some of us are better at tapping into that capability than others. IM uncovers those self-imposed obstacles and reveals how to overcome them.<br />\nAnyone can learn how to put themselves in the elite group of innovators. IM identifies those characteristics that most distinguish successful entrepreneurs from those who are less so. It helps explain why there is such a wide range of performance among entrepreneurs and how to enhance the odds of success.<br />\n<span style="font-family:calibri\,sans-serif"><span style="font-size:11.0pt">Your employees\, your team members and in particular your leaders\, need to understand not only the importance of innovation\, but how to make it a sustained organizational capability and a personal competency. IM provides a rigorous way to 1) assess how innovative someone may currently be\, 2) help them develop that capability and 3) measure their progress.</span></span><br />\nThis half day program is being offered by LAUNCH\, the Austin co-working space. LAUNCH was created by Austin Community Growth Ventures\, as part of the Development Corporation of Austin (DCA). We have partnered with Dennis Stauffer\, a recognized expert on the behaviors that drive innovation. \,&nbsp\;
LOCATION:LAUNCH 109 1st Ave SE\, Suite 4 Austin\, Minnesota 55912
UID:e.343.3148
SEQUENCE:3
DTSTAMP:20260419T143003Z
URL:https://business.austincoc.com/events/details/developing-an-innovator-mindset-3148
END:VEVENT

END:VCALENDAR
