BEGIN:VCALENDAR
VERSION:2.0
PRODID:-//ChamberMaster//Event Calendar 2.0//EN
METHOD:PUBLISH
X-PUBLISHED-TTL:P3D
REFRESH-INTERVAL:P3D
CALSCALE:GREGORIAN
BEGIN:VEVENT
DTSTART:20200511T220000Z
DTEND:20200511T230000Z
X-MICROSOFT-CDO-ALLDAYEVENT:FALSE
SUMMARY:Downtown Committee Meeting
DESCRIPTION:Virtual Meeting with Downtown Businesses
X-ALT-DESC;FMTTYPE=text/html:Virtual Meeting with Downtown Businesses
LOCATION:Zoom (if interested in attending\, please email elaine@austincoc.com)
UID:e.343.3334
SEQUENCE:3
DTSTAMP:20260423T162206Z
URL:https://business.austincoc.com/events/details/downtown-committee-meeting-05-11-2020-3334
END:VEVENT

END:VCALENDAR
