BEGIN:VCALENDAR
VERSION:2.0
PRODID:-//ChamberMaster//Event Calendar 2.0//EN
METHOD:PUBLISH
X-PUBLISHED-TTL:P3D
REFRESH-INTERVAL:P3D
CALSCALE:GREGORIAN
BEGIN:VEVENT
DTSTART:20230520T160000Z
DTEND:20230520T200000Z
X-MICROSOFT-CDO-ALLDAYEVENT:FALSE
SUMMARY:EPIC: Taste of Nations
DESCRIPTION:TASTE OF NATIONS\n\nAustin's Annual Cultural Heritage Center\n\nFood trucks and vendors galore!
X-ALT-DESC;FMTTYPE=text/html:<span style="font-size:20px\;"><strong>TASTE OF NATIONS</strong></span><br />\nAustin&#39\;s Annual Cultural Heritage Center<br />\nFood trucks and vendors galore!
LOCATION:Bandshell Park\, 4th Street and 9th Place SW
UID:e.343.4995
SEQUENCE:3
DTSTAMP:20260420T221334Z
URL:https://business.austincoc.com/events/details/epic-taste-of-nations-4995
END:VEVENT

END:VCALENDAR
