BEGIN:VCALENDAR
VERSION:2.0
PRODID:-//ChamberMaster//Event Calendar 2.0//EN
METHOD:PUBLISH
X-PUBLISHED-TTL:P3D
REFRESH-INTERVAL:P3D
CALSCALE:GREGORIAN
BEGIN:VEVENT
DTSTART:20230518T170000Z
DTEND:20230518T180000Z
X-MICROSOFT-CDO-ALLDAYEVENT:FALSE
SUMMARY:EPIC - The Whitewater Project SHOW & TELL FIELD TRIP
DESCRIPTION:EPIC members - learn about the exciting Whitewater Rapids Project that would bring adventure tourism to Austin. Presented by Dave Merrill\, Director of Parks\, Recreation\, and Forestry for the City of Austin. It's really cool. We'll meet at the YMCA's Community Room A for lunch before a quick walk-through tour of the proposed project site.\n\n\n\nREGISTER FOR LUNCH COUNT
X-ALT-DESC;FMTTYPE=text/html:<a href="https://www.austincoc.com/epic-engaging-professionals-in-community/"><strong>EPIC members</strong></a> - learn about the exciting Whitewater Rapids Project that would bring adventure tourism to Austin. Presented by Dave Merrill\, Director of Parks\, Recreation\, and Forestry for the City of Austin. It&#39\;s really cool.&nbsp\;<span style="font-size: 16px\;">We&#39\;ll meet at the YMCA&#39\;s Community Room A for lunch before a quick walk-through tour of the proposed project site.</span><br />\n<br />\n<span style="font-size: 16px\;"><a href="https://business.austincoc.com/events/register/4853"><strong>REGISTER FOR LUNCH COUNT</strong></a></span>
LOCATION:YMCA - Community Room A 501 4th Ave NE\, Austin
UID:e.343.4853
SEQUENCE:3
DTSTAMP:20260420T211919Z
URL:https://business.austincoc.com/events/details/epic-the-whitewater-project-show-tell-field-trip-4853
END:VEVENT

END:VCALENDAR
