BEGIN:VCALENDAR
VERSION:2.0
PRODID:-//ChamberMaster//Event Calendar 2.0//EN
METHOD:PUBLISH
X-PUBLISHED-TTL:P3D
REFRESH-INTERVAL:P3D
CALSCALE:GREGORIAN
BEGIN:VEVENT
DTSTART:20170923T160000Z
DTEND:20170923T200000Z
X-MICROSOFT-CDO-ALLDAYEVENT:FALSE
SUMMARY:Fall Harvest Celebration
DESCRIPTION:Join the Mower County Historical Society for a day celebrating Fall! This event is great for family members of all ages! Enjoy antique farm equipment\, an apple cider press\, horse-drawn wagon rides\, a history-themed Scavenger Hunt\, and more! Bake goods and a pulled-pork sandwich meal will be available for purchase. All proceeds benefit the Mower County Historical Society\, a non-profit organization.
X-ALT-DESC;FMTTYPE=text/html:Join the Mower County Historical Society for a day celebrating Fall! This event is great for family members of all ages! Enjoy antique farm equipment\, an apple cider press\, horse-drawn wagon rides\, a history-themed Scavenger Hunt\, and more! Bake goods and a pulled-pork sandwich meal will be available for purchase. All proceeds benefit the Mower County Historical Society\, a non-profit organization.
LOCATION:Mower County Historical Society 1303 6th Ave. SW Austin\, MN 55912
UID:e.343.2987
SEQUENCE:3
DTSTAMP:20260425T110229Z
URL:https://business.austincoc.com/events/details/fall-harvest-celebration-2987
END:VEVENT

END:VCALENDAR
