BEGIN:VCALENDAR
VERSION:2.0
PRODID:-//ChamberMaster//Event Calendar 2.0//EN
METHOD:PUBLISH
X-PUBLISHED-TTL:P3D
REFRESH-INTERVAL:P3D
CALSCALE:GREGORIAN
BEGIN:VEVENT
DTSTART:20190215T144500Z
DTEND:20190215T230000Z
X-MICROSOFT-CDO-ALLDAYEVENT:FALSE
SUMMARY:Farmers Market Place Vendor Information Event
DESCRIPTION:Farmers Market Place LLC\, Austin MN is looking to expand our number of Vendors.  Our season runs from May-October\, 2 days a week.  Mondays and Thursdays 4pm-6pm.  We have some planning to do for this next year\, hope to have more information soon.  If you are questioning what you need to be prepared\, license\, fees\, etc. there will be a conference at Riverland Community College\, February 15th & 16th.  They will be covering needed license for the 2019 season\, amongst other information.  To answer any questions you may have please contact Mary @ 507-438-4213.
X-ALT-DESC;FMTTYPE=text/html:<p style="margin: 0px 0px 10.66px\;"><span style="background: white\; margin: 0px\; color: rgb(51\, 51\, 51)\; line-height: 107%\; font-family: &quot\;Arial&quot\;\,sans-serif\; font-size: 10pt\;">Farmers Market Place LLC\, Austin MN is looking to expand our number of Vendors.&nbsp\; Our season runs from May-October\, 2 days a week.&nbsp\; Mondays and Thursdays 4pm-6pm.&nbsp\; We have some planning to do for this next year\, hope to have more information soon.&nbsp\; If you are questioning what you need to be prepared\, license\, fees\, etc. there will be a conference at Riverland Community College\, February 15th &amp\; 16th.&nbsp\; They will be covering needed license for the 2019 season\, amongst other information.&nbsp\; To answer any questions you may have please contact Mary @ 507-438-4213. &nbsp\; &nbsp\;</span></p>\n
LOCATION:Riverland Community College West Campus-Park in North lot 1900 8th Ave NW Austin\, MN 55912
UID:e.343.3150
SEQUENCE:3
DTSTAMP:20260424T125300Z
URL:https://business.austincoc.com/events/details/farmers-market-place-vendor-information-event-3150
END:VEVENT

END:VCALENDAR
