BEGIN:VCALENDAR
VERSION:2.0
PRODID:-//ChamberMaster//Event Calendar 2.0//EN
METHOD:PUBLISH
X-PUBLISHED-TTL:P3D
REFRESH-INTERVAL:P3D
CALSCALE:GREGORIAN
BEGIN:VEVENT
DTSTART:20180612T233000Z
DTEND:20180613T013000Z
X-MICROSOFT-CDO-ALLDAYEVENT:FALSE
SUMMARY:Free Seminar
DESCRIPTION:Educational seminar to learn guidelines and tips for entering Horticulture exhibits at the Mower County Fair. Areas to be covered include display of flowers\, floral design\, container plants\, novelty/fairy gardens\, vegetables\, tables settings\, and more.
X-ALT-DESC;FMTTYPE=text/html:Educational seminar to learn guidelines and tips for entering Horticulture exhibits at the Mower County Fair. Areas to be covered include display of flowers\, floral design\, container plants\, novelty/fairy gardens\, vegetables\, tables settings\, and more.
LOCATION:Hormel Nature Center\, Ruby Rupner building
UID:e.343.3003
SEQUENCE:3
DTSTAMP:20260424T235226Z
URL:https://business.austincoc.com/events/details/free-seminar-3003
END:VEVENT

END:VCALENDAR
