BEGIN:VCALENDAR
VERSION:2.0
PRODID:-//ChamberMaster//Event Calendar 2.0//EN
METHOD:PUBLISH
X-PUBLISHED-TTL:P3D
REFRESH-INTERVAL:P3D
CALSCALE:GREGORIAN
BEGIN:VEVENT
DTSTART:20180620T213000Z
DTEND:20180621T010000Z
X-MICROSOFT-CDO-ALLDAYEVENT:FALSE
SUMMARY:Freedom Fest Community Impact Night @ Pizza Ranch
DESCRIPTION:Join us on Wednesday\, June 20th at the Austin Pizza Ranch and support the Freedom Fest! A portion of the proceeds and all tips will go towards the Austin Fireworks on July 3rd and 4th.
X-ALT-DESC;FMTTYPE=text/html:Join us on Wednesday\, June 20th at the Austin Pizza Ranch and support the Freedom Fest! A portion of the proceeds and all tips will go towards the Austin Fireworks on July 3rd and 4th.
LOCATION:Austin Pizza Ranch 1300 18th Ave NW
UID:e.343.2997
SEQUENCE:3
DTSTAMP:20260424T235524Z
URL:https://business.austincoc.com/events/details/freedom-fest-community-impact-night-pizza-ranch-2997
END:VEVENT

END:VCALENDAR
