BEGIN:VCALENDAR
VERSION:2.0
PRODID:-//ChamberMaster//Event Calendar 2.0//EN
METHOD:PUBLISH
X-PUBLISHED-TTL:P3D
REFRESH-INTERVAL:P3D
CALSCALE:GREGORIAN
BEGIN:VEVENT
DTSTART:20181124T013000Z
DTEND:20181124T030000Z
X-MICROSOFT-CDO-ALLDAYEVENT:FALSE
SUMMARY:Jane Taylor's The Nutcracker
DESCRIPTION:Annual presentation of The Nutcracker preformed by dances from Jane Taylor's Academy of Dance
X-ALT-DESC;FMTTYPE=text/html:Annual presentation of The Nutcracker preformed by dances from Jane Taylor&#39\;s Academy of Dance
LOCATION:Historic Paramount Theatre
UID:e.343.3012
SEQUENCE:3
DTSTAMP:20260422T043538Z
URL:https://business.austincoc.com/events/details/jane-taylor-s-the-nutcracker-3012
END:VEVENT

END:VCALENDAR
