BEGIN:VCALENDAR
VERSION:2.0
PRODID:-//ChamberMaster//Event Calendar 2.0//EN
METHOD:PUBLISH
X-PUBLISHED-TTL:P3D
REFRESH-INTERVAL:P3D
CALSCALE:GREGORIAN
BEGIN:VEVENT
DTSTART:20180519T230000Z
DTEND:20180520T010000Z
X-MICROSOFT-CDO-ALLDAYEVENT:FALSE
SUMMARY:Kings Wood Dinner
DESCRIPTION:A fundraising dinner presented by the Hormel Historic Home and Gerard Academy emulating the experience of the King's Wood Restaurant from the 1950's and 1960's. Fine French cuisine\, time period cocktails\, desserts and live music will be featured. Event will be at the Hormel Historic Home. Social begins at 6:00 p.m. with live music\, cocktails\, and hors d'oeurves. Dinner is served at 7:00 p.m. Menu includes filet of beef\, potatoes\, green beans\, wedge salad\, relish tray\, and roll. Time period desserts include butter rum and Creme de Menthe ice cream sundaes and eclairs. Tickets are $35/person Proceeds support the Hormel Historic Home and Gerard Academy. Causes
X-ALT-DESC;FMTTYPE=text/html:A fundraising dinner presented by the Hormel Historic Home and Gerard Academy emulating the experience of the King&#39\;s Wood Restaurant from the 1950&#39\;s and 1960&#39\;s. Fine French cuisine\, time period cocktails\, desserts and live music will be featured. Event will be at the Hormel Historic Home. Social begins at 6:00 p.m. with live music\, cocktails\, and hors d&#39\;oeurves. Dinner is served at 7:00 p.m. Menu includes filet of beef\, potatoes\, green beans\, wedge salad\, relish tray\, and roll. Time period desserts include butter rum and Creme de Menthe ice cream sundaes and eclairs. Tickets are $35/person Proceeds support the Hormel Historic Home and Gerard Academy. Causes
LOCATION:Hormel Historic Home
UID:e.343.2999
SEQUENCE:3
DTSTAMP:20260425T022338Z
URL:https://business.austincoc.com/events/details/kings-wood-dinner-2999
END:VEVENT

END:VCALENDAR
