BEGIN:VCALENDAR
VERSION:2.0
PRODID:-//ChamberMaster//Event Calendar 2.0//EN
METHOD:PUBLISH
X-PUBLISHED-TTL:P3D
REFRESH-INTERVAL:P3D
CALSCALE:GREGORIAN
BEGIN:VEVENT
DTSTART:20200519T200000Z
DTEND:20200519T210000Z
X-MICROSOFT-CDO-ALLDAYEVENT:FALSE
SUMMARY:Leadership Austin Meeting
DESCRIPTION:
X-ALT-DESC;FMTTYPE=text/html:
LOCATION:Chamber of Commerce Board Room
UID:e.343.3738
SEQUENCE:3
DTSTAMP:20260423T162104Z
URL:https://business.austincoc.com/events/details/leadership-austin-meeting-05-26-2020-3738
END:VEVENT

END:VCALENDAR
