BEGIN:VCALENDAR
VERSION:2.0
PRODID:-//ChamberMaster//Event Calendar 2.0//EN
METHOD:PUBLISH
X-PUBLISHED-TTL:P3D
REFRESH-INTERVAL:P3D
CALSCALE:GREGORIAN
BEGIN:VEVENT
DTSTART:20200226T175000Z
DTEND:20200226T190000Z
X-MICROSOFT-CDO-ALLDAYEVENT:FALSE
SUMMARY:Lunch and Learn: Accounting and Bookkeeping Basics
DESCRIPTION:Are you a business that needs help defining what is accounting and bookkeeping\, and the difference between the two? Do you know that proper accounting and bookkeeping is key to running a successful business? Do you need a refresher on how to read basic financial statements and make decisions based off of them?\n\nThen this Lunch and Learn is for you!
X-ALT-DESC;FMTTYPE=text/html:<span style="color: rgb(29\, 33\, 41)\; font-family: Helvetica\, Arial\, sans-serif\; font-size: 14px\;">Are you a business that needs help defining what is accounting and bookkeeping\, and the difference between the two? Do you know that proper accounting and bookkeeping is key to running a successful business?&nbsp\;</span><span style="color: rgb(29\, 33\, 41)\; font-family: Helvetica\, Arial\, sans-serif\; font-size: 14px\;">Do you need a refresher on how to read basic financial statements and make decisions based off of them?</span><br style="color: rgb(29\, 33\, 41)\; font-family: Helvetica\, Arial\, sans-serif\; font-size: 14px\;" />\n<span style="color: rgb(29\, 33\, 41)\; font-family: Helvetica\, Arial\, sans-serif\; font-size: 14px\;">Then this Lunch and Learn is for you!</span>
LOCATION:LAUNCH Co-Working Space 109 1st Ave SE\, Suite 4 Austin\, MN 55912
UID:e.343.4005
SEQUENCE:3
DTSTAMP:20260423T205232Z
URL:https://business.austincoc.com/events/details/lunch-and-learn-accounting-and-bookkeeping-basics-4005
END:VEVENT

END:VCALENDAR
